Package: Dune Version: 1.8.0 Command: /home/biocbuild/bbs-3.15-bioc/R/bin/R CMD build --keep-empty-dirs --no-resave-data Dune StartedAt: 2022-10-18 16:31:35 -0400 (Tue, 18 Oct 2022) EndedAt: 2022-10-18 16:32:11 -0400 (Tue, 18 Oct 2022) EllapsedTime: 35.8 seconds RetCode: 0 Status: OK PackageFile: Dune_1.8.0.tar.gz PackageFileSize: 1.992 MiB