Package: DropletUtils Version: 1.16.0 Command: /home/biocbuild/bbs-3.15-bioc/R/bin/R CMD check --install=check:DropletUtils.install-out.txt --library=/home/biocbuild/bbs-3.15-bioc/R/library --no-vignettes --timings DropletUtils_1.16.0.tar.gz StartedAt: 2022-10-18 19:32:10 -0400 (Tue, 18 Oct 2022) EndedAt: 2022-10-18 19:37:53 -0400 (Tue, 18 Oct 2022) EllapsedTime: 343.1 seconds RetCode: 0 Status: OK CheckDir: DropletUtils.Rcheck Warnings: 0