Package: DriverNet Version: 1.36.0 Command: /Library/Frameworks/R.framework/Resources/bin/R CMD build --keep-empty-dirs --no-resave-data DriverNet StartedAt: 2022-10-18 18:14:29 -0400 (Tue, 18 Oct 2022) EndedAt: 2022-10-18 18:15:11 -0400 (Tue, 18 Oct 2022) EllapsedTime: 42.2 seconds RetCode: 0 Status: OK PackageFile: DriverNet_1.36.0.tar.gz PackageFileSize: 1.109 MiB