Package: Dino Version: 1.1.0 Command: chmod a+r Dino -R && D:\biocbuild\bbs-3.15-bioc\R\bin\R.exe CMD build --keep-empty-dirs --no-resave-data Dino StartedAt: 2022-03-17 16:44:53 -0400 (Thu, 17 Mar 2022) EndedAt: 2022-03-17 16:47:04 -0400 (Thu, 17 Mar 2022) EllapsedTime: 131.3 seconds RetCode: 0 Status: OK PackageFile: Dino_1.1.0.tar.gz PackageFileSize: 789.6 KiB