Package: Dino Version: 1.2.0 Command: /home/biocbuild/bbs-3.15-bioc/R/bin/R CMD check --install=check:Dino.install-out.txt --library=/home/biocbuild/bbs-3.15-bioc/R/library --no-vignettes --timings Dino_1.2.0.tar.gz StartedAt: 2022-10-18 19:27:46 -0400 (Tue, 18 Oct 2022) EndedAt: 2022-10-18 19:32:51 -0400 (Tue, 18 Oct 2022) EllapsedTime: 305.3 seconds RetCode: 0 Status: OK CheckDir: Dino.Rcheck Warnings: 0