Package: DegNorm Version: 1.6.1 Command: /Library/Frameworks/R.framework/Resources/bin/R CMD INSTALL DegNorm StartedAt: 2022-10-18 16:11:39 -0400 (Tue, 18 Oct 2022) EndedAt: 2022-10-18 16:13:21 -0400 (Tue, 18 Oct 2022) EllapsedTime: 102.0 seconds RetCode: 0 Status: OK