Package: DeepBlueR Version: 1.21.0 Command: D:\biocbuild\bbs-3.15-bioc\R\bin\R.exe CMD check --no-multiarch --install=check:DeepBlueR.install-out.txt --library=D:\biocbuild\bbs-3.15-bioc\R\library --no-vignettes --timings DeepBlueR_1.21.0.tar.gz StartedAt: 2022-03-01 18:59:17 -0500 (Tue, 01 Mar 2022) EndedAt: 2022-03-01 19:05:00 -0500 (Tue, 01 Mar 2022) EllapsedTime: 343.0 seconds RetCode: 0 Status: OK CheckDir: DeepBlueR.Rcheck Warnings: 0