Package: DeepBlueR Version: 1.21.0 Command: rm -rf DeepBlueR.buildbin-libdir && mkdir DeepBlueR.buildbin-libdir && D:\biocbuild\bbs-3.15-bioc\R\bin\R.exe CMD INSTALL --build --library=DeepBlueR.buildbin-libdir DeepBlueR_1.21.0.tar.gz StartedAt: 2022-03-01 21:11:05 -0500 (Tue, 01 Mar 2022) EndedAt: 2022-03-01 21:12:25 -0500 (Tue, 01 Mar 2022) EllapsedTime: 79.8 seconds RetCode: 0 Status: OK PackageFile: DeepBlueR_1.21.0.zip PackageFileSize: 1.456 MiB