Package: DeepBlueR Version: 1.22.0 Command: rm -rf DeepBlueR.buildbin-libdir && mkdir DeepBlueR.buildbin-libdir && /Users/biocbuild/BBS/utils/build-universal.sh DeepBlueR_1.22.0.tar.gz /Library/Frameworks/R.framework/Resources/bin/R DeepBlueR.buildbin-libdir StartedAt: 2022-10-19 10:12:39 -0400 (Wed, 19 Oct 2022) EndedAt: 2022-10-19 10:13:59 -0400 (Wed, 19 Oct 2022) EllapsedTime: 80.8 seconds RetCode: 0 Status: OK PackageFile: DeepBlueR_1.22.0.tgz PackageFileSize: 1.683 MiB