Package: DSS Version: 2.43.2 Command: chmod a+r DSS -R && D:\biocbuild\bbs-3.15-bioc\R\bin\R.exe CMD build --keep-empty-dirs --no-resave-data DSS StartedAt: 2022-03-17 16:46:48 -0400 (Thu, 17 Mar 2022) EndedAt: 2022-03-17 16:47:33 -0400 (Thu, 17 Mar 2022) EllapsedTime: 44.9 seconds RetCode: 1 Status: ERROR PackageFile: None PackageFileSize: NA