Package: DNAshapeR Version: 1.24.0 Command: F:\biocbuild\bbs-3.15-bioc\R\bin\R.exe CMD INSTALL DNAshapeR StartedAt: 2022-10-18 15:58:00 -0400 (Tue, 18 Oct 2022) EndedAt: 2022-10-18 15:59:01 -0400 (Tue, 18 Oct 2022) EllapsedTime: 60.7 seconds RetCode: 0 Status: OK