Package: DNAshapeR Version: 1.24.0 Command: rm -rf DNAshapeR.buildbin-libdir && mkdir DNAshapeR.buildbin-libdir && /Users/biocbuild/BBS/utils/build-universal.sh DNAshapeR_1.24.0.tar.gz /Library/Frameworks/R.framework/Resources/bin/R DNAshapeR.buildbin-libdir StartedAt: 2022-10-19 10:16:01 -0400 (Wed, 19 Oct 2022) EndedAt: 2022-10-19 10:17:35 -0400 (Wed, 19 Oct 2022) EllapsedTime: 93.0 seconds RetCode: 0 Status: OK PackageFile: DNAshapeR_1.24.0.tgz PackageFileSize: 1.257 MiB