Package: DNABarcodes Version: 1.26.0 Command: chmod a+r DNABarcodes -R && F:\biocbuild\bbs-3.15-bioc\R\bin\R.exe CMD build --keep-empty-dirs --no-resave-data DNABarcodes StartedAt: 2022-10-18 18:13:01 -0400 (Tue, 18 Oct 2022) EndedAt: 2022-10-18 18:15:12 -0400 (Tue, 18 Oct 2022) EllapsedTime: 131.1 seconds RetCode: 0 Status: OK PackageFile: DNABarcodes_1.26.0.tar.gz PackageFileSize: 348 KiB