Package: DMRcaller Version: 1.27.1 Command: chmod a+r DMRcaller -R && D:\biocbuild\bbs-3.15-bioc\R\bin\R.exe CMD build --keep-empty-dirs --no-resave-data DMRcaller StartedAt: 2022-03-17 16:45:41 -0400 (Thu, 17 Mar 2022) EndedAt: 2022-03-17 16:46:50 -0400 (Thu, 17 Mar 2022) EllapsedTime: 68.3 seconds RetCode: 0 Status: OK PackageFile: DMRcaller_1.27.1.tar.gz PackageFileSize: 1.616 MiB