Package: DMRcaller Version: 1.27.1 Command: rm -rf DMRcaller.buildbin-libdir && mkdir DMRcaller.buildbin-libdir && D:\biocbuild\bbs-3.15-bioc\R\bin\R.exe CMD INSTALL --build --library=DMRcaller.buildbin-libdir DMRcaller_1.27.1.tar.gz StartedAt: 2022-03-17 21:05:22 -0400 (Thu, 17 Mar 2022) EndedAt: 2022-03-17 21:06:31 -0400 (Thu, 17 Mar 2022) EllapsedTime: 68.8 seconds RetCode: 0 Status: OK PackageFile: DMRcaller_1.27.1.zip PackageFileSize: 1.881 MiB