Package: DIAlignR Version: 2.4.0 Command: F:\biocbuild\bbs-3.15-bioc\R\bin\R.exe CMD check --no-multiarch --install=check:DIAlignR.install-out.txt --library=F:\biocbuild\bbs-3.15-bioc\R\library --no-vignettes --timings DIAlignR_2.4.0.tar.gz StartedAt: 2022-10-18 23:40:00 -0400 (Tue, 18 Oct 2022) EndedAt: 2022-10-18 23:44:55 -0400 (Tue, 18 Oct 2022) EllapsedTime: 295.3 seconds RetCode: 0 Status: OK CheckDir: DIAlignR.Rcheck Warnings: 0