Package: DIAlignR Version: 2.4.0 Command: chmod a+r DIAlignR -R && F:\biocbuild\bbs-3.15-bioc\R\bin\R.exe CMD build --keep-empty-dirs --no-resave-data DIAlignR StartedAt: 2022-10-18 18:09:36 -0400 (Tue, 18 Oct 2022) EndedAt: 2022-10-18 18:11:34 -0400 (Tue, 18 Oct 2022) EllapsedTime: 118.3 seconds RetCode: 0 Status: OK PackageFile: DIAlignR_2.4.0.tar.gz PackageFileSize: 3.999 MiB