Package: DIAlignR Version: 2.4.0 Command: /Library/Frameworks/R.framework/Resources/bin/R CMD INSTALL DIAlignR StartedAt: 2022-10-18 15:54:51 -0400 (Tue, 18 Oct 2022) EndedAt: 2022-10-18 15:56:58 -0400 (Tue, 18 Oct 2022) EllapsedTime: 127.1 seconds RetCode: 0 Status: OK