git_url: https://git.bioconductor.org/packages/DIAlignR git_branch: RELEASE_3_15 git_last_commit: fb216bf git_last_commit_date: 2022-04-26 12:02:14 -0400 (Tue, 26 Apr 2022) Package: DIAlignR Version: 2.4.0 Maintainer: Shubham Gupta MaintainerEmail: shubham.1637 at gmail.com