Package: DEsingle Version: 1.15.0 Command: chmod a+r DEsingle -R && D:\biocbuild\bbs-3.15-bioc\R\bin\R.exe CMD build --keep-empty-dirs --no-resave-data DEsingle StartedAt: 2022-03-17 16:43:59 -0400 (Thu, 17 Mar 2022) EndedAt: 2022-03-17 16:44:14 -0400 (Thu, 17 Mar 2022) EllapsedTime: 15.6 seconds RetCode: 0 Status: OK PackageFile: DEsingle_1.15.0.tar.gz PackageFileSize: 365 KiB