Package: Cormotif Version: 1.42.0 Command: /Library/Frameworks/R.framework/Resources/bin/R CMD build --keep-empty-dirs --no-resave-data Cormotif StartedAt: 2022-10-18 17:49:58 -0400 (Tue, 18 Oct 2022) EndedAt: 2022-10-18 17:50:57 -0400 (Tue, 18 Oct 2022) EllapsedTime: 59.6 seconds RetCode: 0 Status: OK PackageFile: Cormotif_1.42.0.tar.gz PackageFileSize: 368.4 KiB