Package: Cormotif Version: 1.42.0 Command: rm -rf Cormotif.buildbin-libdir && mkdir Cormotif.buildbin-libdir && /Users/biocbuild/BBS/utils/build-universal.sh Cormotif_1.42.0.tar.gz /Library/Frameworks/R.framework/Resources/bin/R Cormotif.buildbin-libdir StartedAt: 2022-10-19 10:09:30 -0400 (Wed, 19 Oct 2022) EndedAt: 2022-10-19 10:09:40 -0400 (Wed, 19 Oct 2022) EllapsedTime: 10.1 seconds RetCode: 0 Status: OK PackageFile: Cormotif_1.42.0.tgz PackageFileSize: 419.6 KiB