Package: ConsensusClusterPlus Version: 1.59.0 Command: chmod a+r ConsensusClusterPlus -R && D:\biocbuild\bbs-3.15-bioc\R\bin\R.exe CMD build --keep-empty-dirs --no-resave-data ConsensusClusterPlus StartedAt: 2022-03-17 16:39:04 -0400 (Thu, 17 Mar 2022) EndedAt: 2022-03-17 16:39:46 -0400 (Thu, 17 Mar 2022) EllapsedTime: 41.8 seconds RetCode: 0 Status: OK PackageFile: ConsensusClusterPlus_1.59.0.tar.gz PackageFileSize: 210.5 KiB