Package: ConsensusClusterPlus Version: 1.59.0 Command: rm -rf ConsensusClusterPlus.buildbin-libdir && mkdir ConsensusClusterPlus.buildbin-libdir && D:\biocbuild\bbs-3.15-bioc\R\bin\R.exe CMD INSTALL --build --library=ConsensusClusterPlus.buildbin-libdir ConsensusClusterPlus_1.59.0.tar.gz StartedAt: 2022-03-17 21:01:55 -0400 (Thu, 17 Mar 2022) EndedAt: 2022-03-17 21:03:10 -0400 (Thu, 17 Mar 2022) EllapsedTime: 75.2 seconds RetCode: 0 Status: OK PackageFile: ConsensusClusterPlus_1.59.0.zip PackageFileSize: 247.1 KiB