Package: ConsensusClusterPlus Version: 1.60.0 Command: F:\biocbuild\bbs-3.15-bioc\R\bin\R.exe CMD check --no-multiarch --install=check:ConsensusClusterPlus.install-out.txt --library=F:\biocbuild\bbs-3.15-bioc\R\library --no-vignettes --timings ConsensusClusterPlus_1.60.0.tar.gz StartedAt: 2022-10-18 23:11:36 -0400 (Tue, 18 Oct 2022) EndedAt: 2022-10-18 23:12:16 -0400 (Tue, 18 Oct 2022) EllapsedTime: 39.6 seconds RetCode: 0 Status: OK CheckDir: ConsensusClusterPlus.Rcheck Warnings: 0