Package: ConsensusClusterPlus Version: 1.60.0 Command: /home/biocbuild/bbs-3.15-bioc/R/bin/R CMD build --keep-empty-dirs --no-resave-data ConsensusClusterPlus StartedAt: 2022-10-18 16:19:58 -0400 (Tue, 18 Oct 2022) EndedAt: 2022-10-18 16:20:07 -0400 (Tue, 18 Oct 2022) EllapsedTime: 9.6 seconds RetCode: 0 Status: OK PackageFile: ConsensusClusterPlus_1.60.0.tar.gz PackageFileSize: 229.6 KiB