git_url: https://git.bioconductor.org/packages/ConsensusClusterPlus git_branch: RELEASE_3_15 git_last_commit: f12f54c git_last_commit_date: 2022-04-26 11:04:10 -0400 (Tue, 26 Apr 2022) Package: ConsensusClusterPlus Version: 1.60.0 Maintainer: Matt Wilkerson MaintainerEmail: mdwilkerson at outlook.com