git_url: https://git.bioconductor.org/packages/ClusterSignificance git_branch: RELEASE_3_15 git_last_commit: 2683a3f git_last_commit_date: 2022-04-26 11:31:54 -0400 (Tue, 26 Apr 2022) Package: ClusterSignificance Version: 1.24.0 Maintainer: Jason T Serviss MaintainerEmail: jason.serviss at ki.se