Package: Clomial Version: 1.32.0 Command: chmod a+r Clomial -R && F:\biocbuild\bbs-3.15-bioc\R\bin\R.exe CMD build --keep-empty-dirs --no-resave-data Clomial StartedAt: 2022-10-18 17:45:17 -0400 (Tue, 18 Oct 2022) EndedAt: 2022-10-18 17:45:42 -0400 (Tue, 18 Oct 2022) EllapsedTime: 25.2 seconds RetCode: 0 Status: OK PackageFile: Clomial_1.32.0.tar.gz PackageFileSize: 1.353 MiB