Package: ChemmineR Version: 3.47.0 Command: D:\biocbuild\bbs-3.15-bioc\R\bin\R.exe CMD INSTALL ChemmineR StartedAt: 2022-03-17 15:32:21 -0400 (Thu, 17 Mar 2022) EndedAt: 2022-03-17 15:33:28 -0400 (Thu, 17 Mar 2022) EllapsedTime: 66.9 seconds RetCode: 0 Status: OK