Package: ChemmineR Version: 3.47.0 Command: chmod a+r ChemmineR -R && D:\biocbuild\bbs-3.15-bioc\R\bin\R.exe CMD build --keep-empty-dirs --no-resave-data ChemmineR StartedAt: 2022-03-17 16:33:42 -0400 (Thu, 17 Mar 2022) EndedAt: 2022-03-17 16:35:02 -0400 (Thu, 17 Mar 2022) EllapsedTime: 79.9 seconds RetCode: 0 Status: OK PackageFile: ChemmineR_3.47.0.tar.gz PackageFileSize: 1.559 MiB