Package: CellaRepertorium Version: 1.6.0 Command: rm -rf CellaRepertorium.buildbin-libdir && mkdir CellaRepertorium.buildbin-libdir && /Users/biocbuild/BBS/utils/build-universal.sh CellaRepertorium_1.6.0.tar.gz /Library/Frameworks/R.framework/Resources/bin/R CellaRepertorium.buildbin-libdir StartedAt: 2022-10-19 10:03:14 -0400 (Wed, 19 Oct 2022) EndedAt: 2022-10-19 10:04:37 -0400 (Wed, 19 Oct 2022) EllapsedTime: 83.4 seconds RetCode: 0 Status: OK PackageFile: CellaRepertorium_1.6.0.tgz PackageFileSize: 4.527 MiB