Package: COSNet Version: 1.30.0 Command: chmod a+r COSNet -R && F:\biocbuild\bbs-3.15-bioc\R\bin\R.exe CMD build --keep-empty-dirs --no-resave-data COSNet StartedAt: 2022-10-18 17:54:46 -0400 (Tue, 18 Oct 2022) EndedAt: 2022-10-18 17:57:26 -0400 (Tue, 18 Oct 2022) EllapsedTime: 160.8 seconds RetCode: 0 Status: OK PackageFile: COSNet_1.30.0.tar.gz PackageFileSize: 285.1 KiB