Package: COSNet Version: 1.30.0 Command: rm -rf COSNet.buildbin-libdir && mkdir COSNet.buildbin-libdir && /Users/biocbuild/BBS/utils/build-universal.sh COSNet_1.30.0.tar.gz /Library/Frameworks/R.framework/Resources/bin/R COSNet.buildbin-libdir StartedAt: 2022-10-19 10:09:47 -0400 (Wed, 19 Oct 2022) EndedAt: 2022-10-19 10:09:52 -0400 (Wed, 19 Oct 2022) EllapsedTime: 5.3 seconds RetCode: 0 Status: OK PackageFile: COSNet_1.30.0.tgz PackageFileSize: 540.4 KiB