Package: CNVRanger Version: 1.11.2 Command: rm -rf CNVRanger.buildbin-libdir && mkdir CNVRanger.buildbin-libdir && D:\biocbuild\bbs-3.15-bioc\R\bin\R.exe CMD INSTALL --build --library=CNVRanger.buildbin-libdir CNVRanger_1.11.2.tar.gz StartedAt: 2022-03-16 20:53:47 -0400 (Wed, 16 Mar 2022) EndedAt: 2022-03-16 20:55:07 -0400 (Wed, 16 Mar 2022) EllapsedTime: 79.9 seconds RetCode: 0 Status: OK PackageFile: CNVRanger_1.11.2.zip PackageFileSize: 1.891 MiB