Package: CNVRanger Version: 1.12.0 Command: rm -rf CNVRanger.buildbin-libdir && mkdir CNVRanger.buildbin-libdir && /Users/biocbuild/BBS/utils/build-universal.sh CNVRanger_1.12.0.tar.gz /Library/Frameworks/R.framework/Resources/bin/R CNVRanger.buildbin-libdir StartedAt: 2022-10-19 10:07:48 -0400 (Wed, 19 Oct 2022) EndedAt: 2022-10-19 10:08:32 -0400 (Wed, 19 Oct 2022) EllapsedTime: 44.2 seconds RetCode: 0 Status: OK PackageFile: CNVRanger_1.12.0.tgz PackageFileSize: 1.984 MiB