Package: CNEr Version: 1.31.1 Command: D:\biocbuild\bbs-3.15-bioc\R\bin\R.exe CMD check --no-multiarch --install=check:CNEr.install-out.txt --library=D:\biocbuild\bbs-3.15-bioc\R\library --no-vignettes --timings CNEr_1.31.1.tar.gz StartedAt: 2022-03-17 18:45:32 -0400 (Thu, 17 Mar 2022) EndedAt: 2022-03-17 18:54:15 -0400 (Thu, 17 Mar 2022) EllapsedTime: 523.0 seconds RetCode: 0 Status: WARNINGS CheckDir: CNEr.Rcheck Warnings: 1