Package: CNEr Version: 1.32.0 Command: chmod a+r CNEr -R && F:\biocbuild\bbs-3.15-bioc\R\bin\R.exe CMD build --keep-empty-dirs --no-resave-data CNEr StartedAt: 2022-10-18 17:47:34 -0400 (Tue, 18 Oct 2022) EndedAt: 2022-10-18 17:49:56 -0400 (Tue, 18 Oct 2022) EllapsedTime: 142.5 seconds RetCode: 0 Status: OK PackageFile: CNEr_1.32.0.tar.gz PackageFileSize: 9.282 MiB