Package: CNEr Version: 1.32.0 Command: rm -rf CNEr.buildbin-libdir && mkdir CNEr.buildbin-libdir && /Users/biocbuild/BBS/utils/build-universal.sh CNEr_1.32.0.tar.gz /Library/Frameworks/R.framework/Resources/bin/R CNEr.buildbin-libdir StartedAt: 2022-10-19 10:07:16 -0400 (Wed, 19 Oct 2022) EndedAt: 2022-10-19 10:08:56 -0400 (Wed, 19 Oct 2022) EllapsedTime: 99.2 seconds RetCode: 0 Status: OK PackageFile: CNEr_1.32.0.tgz PackageFileSize: 10.36 MiB