Package: CCPROMISE Version: 1.22.0 Command: rm -rf CCPROMISE.buildbin-libdir && mkdir CCPROMISE.buildbin-libdir && F:\biocbuild\bbs-3.15-bioc\R\bin\R.exe CMD INSTALL --build --library=CCPROMISE.buildbin-libdir CCPROMISE_1.22.0.tar.gz StartedAt: 2022-10-19 05:38:42 -0400 (Wed, 19 Oct 2022) EndedAt: 2022-10-19 05:39:10 -0400 (Wed, 19 Oct 2022) EllapsedTime: 28.1 seconds RetCode: 0 Status: OK PackageFile: CCPROMISE_1.22.0.zip PackageFileSize: 1.084 MiB