Package: CAMERA Version: 1.52.0 Command: rm -rf CAMERA.buildbin-libdir && mkdir CAMERA.buildbin-libdir && F:\biocbuild\bbs-3.15-bioc\R\bin\R.exe CMD INSTALL --build --library=CAMERA.buildbin-libdir CAMERA_1.52.0.tar.gz StartedAt: 2022-10-19 05:37:46 -0400 (Wed, 19 Oct 2022) EndedAt: 2022-10-19 05:38:57 -0400 (Wed, 19 Oct 2022) EllapsedTime: 71.1 seconds RetCode: 0 Status: OK PackageFile: CAMERA_1.52.0.zip PackageFileSize: 2.845 MiB