Package: BufferedMatrixMethods Version: 1.59.0 Command: chmod a+r BufferedMatrixMethods -R && D:\biocbuild\bbs-3.15-bioc\R\bin\R.exe CMD build --keep-empty-dirs --no-resave-data BufferedMatrixMethods StartedAt: 2022-03-17 16:29:49 -0400 (Thu, 17 Mar 2022) EndedAt: 2022-03-17 16:29:53 -0400 (Thu, 17 Mar 2022) EllapsedTime: 4.1 seconds RetCode: 0 Status: OK PackageFile: BufferedMatrixMethods_1.59.0.tar.gz PackageFileSize: 10.83 KiB