Package: BridgeDbR Version: 2.6.0 Command: chmod a+r BridgeDbR -R && F:\biocbuild\bbs-3.15-bioc\R\bin\R.exe CMD build --keep-empty-dirs --no-resave-data BridgeDbR StartedAt: 2022-10-18 17:30:08 -0400 (Tue, 18 Oct 2022) EndedAt: 2022-10-18 17:30:20 -0400 (Tue, 18 Oct 2022) EllapsedTime: 11.9 seconds RetCode: 0 Status: OK PackageFile: BridgeDbR_2.6.0.tar.gz PackageFileSize: 2.584 MiB