Package: BiocOncoTK Version: 1.15.1 Command: rm -rf BiocOncoTK.buildbin-libdir && mkdir BiocOncoTK.buildbin-libdir && D:\biocbuild\bbs-3.15-bioc\R\bin\R.exe CMD INSTALL --build --library=BiocOncoTK.buildbin-libdir BiocOncoTK_1.15.1.tar.gz StartedAt: 2022-03-17 20:55:22 -0400 (Thu, 17 Mar 2022) EndedAt: 2022-03-17 20:56:37 -0400 (Thu, 17 Mar 2022) EllapsedTime: 75.5 seconds RetCode: 0 Status: OK PackageFile: BiocOncoTK_1.15.1.zip PackageFileSize: 8.259 MiB