Package: BiocGenerics Version: 0.41.2 Command: chmod a+r BiocGenerics -R && D:\biocbuild\bbs-3.15-bioc\R\bin\R.exe CMD build --keep-empty-dirs --no-resave-data BiocGenerics StartedAt: 2022-03-17 16:26:07 -0400 (Thu, 17 Mar 2022) EndedAt: 2022-03-17 16:26:09 -0400 (Thu, 17 Mar 2022) EllapsedTime: 1.6 seconds RetCode: 0 Status: OK PackageFile: BiocGenerics_0.41.2.tar.gz PackageFileSize: 44.93 KiB