Package: BioMVCClass Version: 1.64.0 Command: F:\biocbuild\bbs-3.15-bioc\R\bin\R.exe CMD check --no-multiarch --install=check:BioMVCClass.install-out.txt --library=F:\biocbuild\bbs-3.15-bioc\R\library --no-vignettes --timings BioMVCClass_1.64.0.tar.gz StartedAt: 2022-10-18 22:25:53 -0400 (Tue, 18 Oct 2022) EndedAt: 2022-10-18 22:26:58 -0400 (Tue, 18 Oct 2022) EllapsedTime: 65.3 seconds RetCode: 0 Status: OK CheckDir: BioMVCClass.Rcheck Warnings: 0