Package: BioMVCClass Version: 1.64.0 Command: rm -rf BioMVCClass.buildbin-libdir && mkdir BioMVCClass.buildbin-libdir && F:\biocbuild\bbs-3.15-bioc\R\bin\R.exe CMD INSTALL --build --library=BioMVCClass.buildbin-libdir BioMVCClass_1.64.0.tar.gz StartedAt: 2022-10-19 05:35:51 -0400 (Wed, 19 Oct 2022) EndedAt: 2022-10-19 05:36:18 -0400 (Wed, 19 Oct 2022) EllapsedTime: 26.9 seconds RetCode: 0 Status: OK PackageFile: BioMVCClass_1.64.0.zip PackageFileSize: 147.9 KiB