Package: BioMVCClass Version: 1.64.0 Command: rm -rf BioMVCClass.buildbin-libdir && mkdir BioMVCClass.buildbin-libdir && /Users/biocbuild/BBS/utils/build-universal.sh BioMVCClass_1.64.0.tar.gz /Library/Frameworks/R.framework/Resources/bin/R BioMVCClass.buildbin-libdir StartedAt: 2022-10-19 09:59:27 -0400 (Wed, 19 Oct 2022) EndedAt: 2022-10-19 09:59:36 -0400 (Wed, 19 Oct 2022) EllapsedTime: 9.5 seconds RetCode: 0 Status: OK PackageFile: BioMVCClass_1.64.0.tgz PackageFileSize: 142 KiB