Package: BeadDataPackR Version: 1.47.0 Command: D:\biocbuild\bbs-3.15-bioc\R\bin\R.exe CMD INSTALL BeadDataPackR StartedAt: 2022-03-17 15:25:01 -0400 (Thu, 17 Mar 2022) EndedAt: 2022-03-17 15:26:15 -0400 (Thu, 17 Mar 2022) EllapsedTime: 73.3 seconds RetCode: 0 Status: OK