Package: BEAT Version: 1.34.0 Command: F:\biocbuild\bbs-3.15-bioc\R\bin\R.exe CMD check --no-multiarch --install=check:BEAT.install-out.txt --library=F:\biocbuild\bbs-3.15-bioc\R\library --no-vignettes --timings BEAT_1.34.0.tar.gz StartedAt: 2022-10-18 22:14:43 -0400 (Tue, 18 Oct 2022) EndedAt: 2022-10-18 22:20:12 -0400 (Tue, 18 Oct 2022) EllapsedTime: 328.9 seconds RetCode: 0 Status: OK CheckDir: BEAT.Rcheck Warnings: 0